BEGIN:VCALENDAR
VERSION:2.0
PRODID:-//www.visitocracokenc.com//AddToCalendar//EN
CALSCALE:GREGORIAN
METHOD:PUBLISH
BEGIN:VEVENT
UID:event-5744@www.visitocracokenc.com
DTSTAMP:20251229T150634Z
DTSTART:20261030T130000Z
DTEND:20261030T140000Z
SUMMARY:Blackbeard&#8217\;s Pirate Jambroree
DESCRIPTION:Ocracoke’s pirate past comes to life during the annual Blackbeard Pirate Jamboree on October 30 &amp\; 31st. This family-friendly fall event celebrates the island’s deep connection to the infamous pirate Blackbeard with a historically accurate pirate encampment\, living history demonstrations\, music\, sea shanties\, artisan vendors\, and hands-on activities for all ages.\n\n\n\nEvent highlights include a reenactment of Blackbeard’s final battle\, along with pirate storytelling\, interactive exhibits\, and a dramatic finale honoring Blackbeard’s last days near Ocracoke. Equal parts educational and entertaining\, the Pirate Jamboree is a favorite fall tradition and a unique way to experience the island’s rich maritime history.
LOCATION:58 Water Plant Rd\, Ocracoke\, NC 27960
END:VEVENT
END:VCALENDAR
